Package: genArise Version: 1.85.0 Command: chmod a+r genArise -R && F:\biocbuild\bbs-3.22-bioc\R\bin\R.exe CMD build --keep-empty-dirs --no-resave-data genArise StartedAt: 2025-07-22 19:16:14 -0400 (Tue, 22 Jul 2025) EndedAt: 2025-07-22 19:16:43 -0400 (Tue, 22 Jul 2025) EllapsedTime: 28.6 seconds RetCode: 0 Status: OK PackageFile: genArise_1.85.0.tar.gz PackageFileSize: 842.7 KiB