Package: genArise Version: 1.85.0 Command: rm -rf genArise.buildbin-libdir && mkdir genArise.buildbin-libdir && F:\biocbuild\bbs-3.22-bioc\R\bin\R.exe CMD INSTALL --build --library=genArise.buildbin-libdir genArise_1.85.0.tar.gz StartedAt: 2025-07-23 09:10:22 -0400 (Wed, 23 Jul 2025) EndedAt: 2025-07-23 09:10:49 -0400 (Wed, 23 Jul 2025) EllapsedTime: 26.2 seconds RetCode: 0 Status: OK PackageFile: genArise_1.85.0.zip PackageFileSize: 1.045 MiB