Package: gemma.R Version: 3.5.4 Command: /home/biocbuild/R/R/bin/R CMD check --install=check:gemma.R.install-out.txt --library=/home/biocbuild/R/R/site-library --no-vignettes --timings gemma.R_3.5.4.tar.gz StartedAt: 2025-06-24 08:15:27 -0000 (Tue, 24 Jun 2025) EndedAt: 2025-06-24 08:37:25 -0000 (Tue, 24 Jun 2025) EllapsedTime: 1318.0 seconds RetCode: 0 Status: OK CheckDir: gemma.R.Rcheck Warnings: 0