Package: gemma.R Version: 3.5.4 Command: F:\biocbuild\bbs-3.22-bioc\R\bin\R.exe CMD check --no-multiarch --install=check:gemma.R.install-out.txt --library=F:\biocbuild\bbs-3.22-bioc\R\library --no-vignettes --timings gemma.R_3.5.4.tar.gz StartedAt: 2025-07-08 02:14:39 -0400 (Tue, 08 Jul 2025) EndedAt: 2025-07-08 02:22:33 -0400 (Tue, 08 Jul 2025) EllapsedTime: 474.1 seconds RetCode: 0 Status: OK CheckDir: gemma.R.Rcheck Warnings: 0