Package: gemma.R Version: 3.5.4 Command: /Library/Frameworks/R.framework/Resources/bin/R CMD check --install=check:gemma.R.install-out.txt --library=/Library/Frameworks/R.framework/Resources/library --no-vignettes --timings gemma.R_3.5.4.tar.gz StartedAt: 2025-06-29 20:37:44 -0400 (Sun, 29 Jun 2025) EndedAt: 2025-06-29 20:46:01 -0400 (Sun, 29 Jun 2025) EllapsedTime: 497.1 seconds RetCode: 0 Status: OK CheckDir: gemma.R.Rcheck Warnings: 0