Package: gemma.R Version: 3.5.4 Command: /Library/Frameworks/R.framework/Resources/bin/R CMD INSTALL gemma.R StartedAt: 2025-06-29 15:12:32 -0400 (Sun, 29 Jun 2025) EndedAt: 2025-06-29 15:12:34 -0400 (Sun, 29 Jun 2025) EllapsedTime: 2.1 seconds RetCode: 0 Status: OK