Package: gemma.R Version: 3.5.4 Command: rm -rf gemma.R.buildbin-libdir && mkdir gemma.R.buildbin-libdir && /Users/biocbuild/BBS/utils/build-universal.sh gemma.R_3.5.4.tar.gz /Library/Frameworks/R.framework/Resources/bin/R gemma.R.buildbin-libdir StartedAt: 2025-06-29 22:19:06 -0400 (Sun, 29 Jun 2025) EndedAt: 2025-06-29 22:19:09 -0400 (Sun, 29 Jun 2025) EllapsedTime: 3.1 seconds RetCode: 0 Status: OK PackageFile: gemma.R_3.5.4.tgz PackageFileSize: 2.346 MiB