Package: gemini Version: 1.23.0 Command: /Library/Frameworks/R.framework/Resources/bin/R CMD INSTALL gemini StartedAt: 2025-07-21 15:05:03 -0400 (Mon, 21 Jul 2025) EndedAt: 2025-07-21 15:05:08 -0400 (Mon, 21 Jul 2025) EllapsedTime: 4.5 seconds RetCode: 0 Status: OK