Package: gemini Version: 1.23.0 Command: /Library/Frameworks/R.framework/Resources/bin/R CMD check --install=check:gemini.install-out.txt --library=/Library/Frameworks/R.framework/Resources/library --no-vignettes --timings gemini_1.23.0.tar.gz StartedAt: 2025-07-21 19:22:46 -0400 (Mon, 21 Jul 2025) EndedAt: 2025-07-21 19:23:42 -0400 (Mon, 21 Jul 2025) EllapsedTime: 56.7 seconds RetCode: 0 Status: OK CheckDir: gemini.Rcheck Warnings: 0