Package: gemini Version: 1.23.0 Command: /Library/Frameworks/R.framework/Resources/bin/R CMD build --keep-empty-dirs --no-resave-data gemini StartedAt: 2025-07-21 16:22:45 -0400 (Mon, 21 Jul 2025) EndedAt: 2025-07-21 16:22:56 -0400 (Mon, 21 Jul 2025) EllapsedTime: 11.1 seconds RetCode: 0 Status: OK PackageFile: gemini_1.23.0.tar.gz PackageFileSize: 4.112 MiB