Package: gemini Version: 1.23.0 Command: rm -rf gemini.buildbin-libdir && mkdir gemini.buildbin-libdir && /Users/biocbuild/BBS/utils/build-universal.sh gemini_1.23.0.tar.gz /Library/Frameworks/R.framework/Resources/bin/R gemini.buildbin-libdir StartedAt: 2025-07-21 22:26:24 -0400 (Mon, 21 Jul 2025) EndedAt: 2025-07-21 22:26:31 -0400 (Mon, 21 Jul 2025) EllapsedTime: 6.1 seconds RetCode: 0 Status: OK PackageFile: gemini_1.23.0.tgz PackageFileSize: 4.231 MiB