Package: gdsfmt Version: 1.45.0 Command: /home/biocbuild/R/R/bin/R CMD INSTALL gdsfmt StartedAt: 2025-06-30 20:14:27 -0000 (Mon, 30 Jun 2025) EndedAt: 2025-06-30 20:20:21 -0000 (Mon, 30 Jun 2025) EllapsedTime: 353.7 seconds RetCode: 0 Status: OK