Package: gdsfmt Version: 1.45.1 Command: F:\biocbuild\bbs-3.22-bioc\R\bin\R.exe CMD INSTALL gdsfmt StartedAt: 2025-07-13 15:21:11 -0400 (Sun, 13 Jul 2025) EndedAt: 2025-07-13 15:25:16 -0400 (Sun, 13 Jul 2025) EllapsedTime: 245.1 seconds RetCode: 0 Status: OK