Package: gdsfmt Version: 1.45.1 Command: F:\biocbuild\bbs-3.22-bioc\R\bin\R.exe CMD check --no-multiarch --install=check:gdsfmt.install-out.txt --library=F:\biocbuild\bbs-3.22-bioc\R\library --no-vignettes --timings gdsfmt_1.45.1.tar.gz StartedAt: 2025-07-15 02:15:02 -0400 (Tue, 15 Jul 2025) EndedAt: 2025-07-15 02:19:52 -0400 (Tue, 15 Jul 2025) EllapsedTime: 289.8 seconds RetCode: 0 Status: OK CheckDir: gdsfmt.Rcheck Warnings: 0