Package: gdsfmt Version: 1.45.1 Command: rm -rf gdsfmt.buildbin-libdir && mkdir gdsfmt.buildbin-libdir && F:\biocbuild\bbs-3.22-bioc\R\bin\R.exe CMD INSTALL --build --library=gdsfmt.buildbin-libdir gdsfmt_1.45.1.tar.gz StartedAt: 2025-07-14 09:01:07 -0400 (Mon, 14 Jul 2025) EndedAt: 2025-07-14 09:05:20 -0400 (Mon, 14 Jul 2025) EllapsedTime: 253.3 seconds RetCode: 0 Status: OK PackageFile: gdsfmt_1.45.1.zip PackageFileSize: 1.836 MiB