Package: gcrma Version: 2.81.0 Command: /home/biocbuild/R/R/bin/R CMD build --keep-empty-dirs --no-resave-data gcrma StartedAt: 2025-10-03 00:04:47 -0000 (Fri, 03 Oct 2025) EndedAt: 2025-10-03 00:05:04 -0000 (Fri, 03 Oct 2025) EllapsedTime: 17.0 seconds RetCode: 0 Status: OK PackageFile: gcrma_2.81.0.tar.gz PackageFileSize: 278.6 KiB