Package: gcrma Version: 2.81.0 Command: F:\biocbuild\bbs-3.22-bioc\R\bin\R.exe CMD check --no-multiarch --install=check:gcrma.install-out.txt --library=F:\biocbuild\bbs-3.22-bioc\R\library --no-vignettes --timings gcrma_2.81.0.tar.gz StartedAt: 2025-08-15 03:25:50 -0400 (Fri, 15 Aug 2025) EndedAt: 2025-08-15 03:28:00 -0400 (Fri, 15 Aug 2025) EllapsedTime: 129.9 seconds RetCode: 0 Status: OK CheckDir: gcrma.Rcheck Warnings: 0