Package: gcrma Version: 2.81.0 Command: /home/biocbuild/bbs-3.22-bioc/R/bin/R CMD INSTALL gcrma StartedAt: 2025-10-05 15:14:34 -0400 (Sun, 05 Oct 2025) EndedAt: 2025-10-05 15:14:44 -0400 (Sun, 05 Oct 2025) EllapsedTime: 10.7 seconds RetCode: 0 Status: OK