Package: gcrma Version: 2.81.0 Command: /Library/Frameworks/R.framework/Resources/bin/R CMD check --install=check:gcrma.install-out.txt --library=/Library/Frameworks/R.framework/Resources/library --no-vignettes --timings gcrma_2.81.0.tar.gz StartedAt: 2025-10-07 21:49:24 -0400 (Tue, 07 Oct 2025) EndedAt: 2025-10-07 21:51:35 -0400 (Tue, 07 Oct 2025) EllapsedTime: 131.0 seconds RetCode: 0 Status: OK CheckDir: gcrma.Rcheck Warnings: 0