Package: gcrma Version: 2.81.0 Command: /Library/Frameworks/R.framework/Resources/bin/R CMD build --keep-empty-dirs --no-resave-data gcrma StartedAt: 2025-10-07 17:08:05 -0400 (Tue, 07 Oct 2025) EndedAt: 2025-10-07 17:08:30 -0400 (Tue, 07 Oct 2025) EllapsedTime: 25.2 seconds RetCode: 0 Status: OK PackageFile: gcrma_2.81.0.tar.gz PackageFileSize: 288.7 KiB