Package: gcrma Version: 2.81.0 Command: /Library/Frameworks/R.framework/Resources/bin/R CMD INSTALL gcrma StartedAt: 2025-10-06 15:08:07 -0400 (Mon, 06 Oct 2025) EndedAt: 2025-10-06 15:08:11 -0400 (Mon, 06 Oct 2025) EllapsedTime: 4.4 seconds RetCode: 0 Status: OK