Package: gcatest Version: 2.9.0 Command: rm -rf gcatest.buildbin-libdir && mkdir gcatest.buildbin-libdir && /Users/biocbuild/BBS/utils/build-universal.sh gcatest_2.9.0.tar.gz /Library/Frameworks/R.framework/Resources/bin/R gcatest.buildbin-libdir StartedAt: 2025-07-02 22:19:57 -0400 (Wed, 02 Jul 2025) EndedAt: 2025-07-02 22:20:02 -0400 (Wed, 02 Jul 2025) EllapsedTime: 5.1 seconds RetCode: 0 Status: OK PackageFile: gcatest_2.9.0.tgz PackageFileSize: 3.548 MiB