Package: gcapc Version: 1.33.0 Command: /Library/Frameworks/R.framework/Resources/bin/R CMD check --install=check:gcapc.install-out.txt --library=/Library/Frameworks/R.framework/Resources/library --no-vignettes --timings gcapc_1.33.0.tar.gz StartedAt: 2025-06-27 19:17:18 -0400 (Fri, 27 Jun 2025) EndedAt: 2025-06-27 19:19:50 -0400 (Fri, 27 Jun 2025) EllapsedTime: 151.8 seconds RetCode: 0 Status: OK CheckDir: gcapc.Rcheck Warnings: 0