Package: gatom Version: 1.7.0 Command: F:\biocbuild\bbs-3.22-bioc\R\bin\R.exe CMD INSTALL gatom StartedAt: 2025-07-20 15:49:23 -0400 (Sun, 20 Jul 2025) EndedAt: 2025-07-20 15:50:00 -0400 (Sun, 20 Jul 2025) EllapsedTime: 37.2 seconds RetCode: 0 Status: OK