Package: gatom Version: 1.7.0 Command: chmod a+r gatom -R && F:\biocbuild\bbs-3.22-bioc\R\bin\R.exe CMD build --keep-empty-dirs --no-resave-data gatom StartedAt: 2025-07-20 19:11:16 -0400 (Sun, 20 Jul 2025) EndedAt: 2025-07-20 19:18:44 -0400 (Sun, 20 Jul 2025) EllapsedTime: 447.7 seconds RetCode: 0 Status: OK PackageFile: gatom_1.7.0.tar.gz PackageFileSize: 1.609 MiB