Package: garfield Version: 1.37.0 Command: F:\biocbuild\bbs-3.22-bioc\R\bin\R.exe CMD check --no-multiarch --install=check:garfield.install-out.txt --library=F:\biocbuild\bbs-3.22-bioc\R\library --no-vignettes --timings garfield_1.37.0.tar.gz StartedAt: 2025-07-12 02:05:06 -0400 (Sat, 12 Jul 2025) EndedAt: 2025-07-12 02:06:03 -0400 (Sat, 12 Jul 2025) EllapsedTime: 56.4 seconds RetCode: 0 Status: WARNINGS CheckDir: garfield.Rcheck Warnings: 1