Package: gage Version: 2.59.0 Command: /home/biocbuild/R/R/bin/R CMD INSTALL gage StartedAt: 2025-07-17 21:04:58 -0000 (Thu, 17 Jul 2025) EndedAt: 2025-07-17 21:05:16 -0000 (Thu, 17 Jul 2025) EllapsedTime: 17.8 seconds RetCode: 0 Status: OK