Package: gage Version: 2.59.0 Command: /home/biocbuild/R/R/bin/R CMD build --keep-empty-dirs --no-resave-data gage StartedAt: 2025-07-17 23:52:57 -0000 (Thu, 17 Jul 2025) EndedAt: 2025-07-17 23:55:31 -0000 (Thu, 17 Jul 2025) EllapsedTime: 153.1 seconds RetCode: 0 Status: OK PackageFile: gage_2.59.0.tar.gz PackageFileSize: 4.315 MiB