Package: gage Version: 2.59.0 Command: chmod a+r gage -R && F:\biocbuild\bbs-3.22-bioc\R\bin\R.exe CMD build --keep-empty-dirs --no-resave-data gage StartedAt: 2025-07-24 19:22:21 -0400 (Thu, 24 Jul 2025) EndedAt: 2025-07-24 19:25:43 -0400 (Thu, 24 Jul 2025) EllapsedTime: 202.0 seconds RetCode: 0 Status: OK PackageFile: gage_2.59.0.tar.gz PackageFileSize: 4.296 MiB