Package: gage Version: 2.59.0 Command: /home/biocbuild/bbs-3.22-bioc/R/bin/R CMD INSTALL gage StartedAt: 2025-07-06 15:40:40 -0400 (Sun, 06 Jul 2025) EndedAt: 2025-07-06 15:40:55 -0400 (Sun, 06 Jul 2025) EllapsedTime: 14.4 seconds RetCode: 0 Status: OK