Package: gage Version: 2.59.0 Command: /home/biocbuild/bbs-3.22-bioc/R/bin/R CMD check --install=check:gage.install-out.txt --library=/home/biocbuild/bbs-3.22-bioc/R/site-library --timings gage_2.59.0.tar.gz StartedAt: 2025-07-06 22:20:24 -0400 (Sun, 06 Jul 2025) EndedAt: 2025-07-06 22:24:36 -0400 (Sun, 06 Jul 2025) EllapsedTime: 252.2 seconds RetCode: 0 Status: WARNINGS CheckDir: gage.Rcheck Warnings: 2