Package: gage Version: 2.59.0 Command: /home/biocbuild/bbs-3.22-bioc/R/bin/R CMD build --keep-empty-dirs --no-resave-data --md5 gage StartedAt: 2025-07-06 17:14:49 -0400 (Sun, 06 Jul 2025) EndedAt: 2025-07-06 17:17:13 -0400 (Sun, 06 Jul 2025) EllapsedTime: 143.2 seconds RetCode: 0 Status: OK PackageFile: gage_2.59.0.tar.gz PackageFileSize: 4.333 MiB