Package: gage Version: 2.59.0 Command: /Library/Frameworks/R.framework/Resources/bin/R CMD check --install=check:gage.install-out.txt --library=/Library/Frameworks/R.framework/Resources/library --no-vignettes --timings gage_2.59.0.tar.gz StartedAt: 2025-07-17 19:23:17 -0400 (Thu, 17 Jul 2025) EndedAt: 2025-07-17 19:24:08 -0400 (Thu, 17 Jul 2025) EllapsedTime: 51.6 seconds RetCode: 0 Status: WARNINGS CheckDir: gage.Rcheck Warnings: 1