Package: gage Version: 2.59.0 Command: /Library/Frameworks/R.framework/Resources/bin/R CMD build --keep-empty-dirs --no-resave-data gage StartedAt: 2025-07-16 16:20:26 -0400 (Wed, 16 Jul 2025) EndedAt: 2025-07-16 16:21:50 -0400 (Wed, 16 Jul 2025) EllapsedTime: 83.9 seconds RetCode: 0 Status: OK PackageFile: gage_2.59.0.tar.gz PackageFileSize: 4.282 MiB