Package: gaga Version: 2.55.0 Command: /home/biocbuild/bbs-3.22-bioc/R/bin/R CMD check --install=check:gaga.install-out.txt --library=/home/biocbuild/bbs-3.22-bioc/R/site-library --timings gaga_2.55.0.tar.gz StartedAt: 2025-07-13 22:22:15 -0400 (Sun, 13 Jul 2025) EndedAt: 2025-07-13 22:23:15 -0400 (Sun, 13 Jul 2025) EllapsedTime: 60.1 seconds RetCode: 0 Status: WARNINGS CheckDir: gaga.Rcheck Warnings: 1