Package: gaga Version: 2.55.0 Command: /Library/Frameworks/R.framework/Resources/bin/R CMD check --install=check:gaga.install-out.txt --library=/Library/Frameworks/R.framework/Resources/library --no-vignettes --timings gaga_2.55.0.tar.gz StartedAt: 2025-07-21 20:47:48 -0400 (Mon, 21 Jul 2025) EndedAt: 2025-07-21 20:48:54 -0400 (Mon, 21 Jul 2025) EllapsedTime: 66.7 seconds RetCode: 0 Status: WARNINGS CheckDir: gaga.Rcheck Warnings: 1