Package: gaga Version: 2.55.0 Command: /Library/Frameworks/R.framework/Resources/bin/R CMD check --install=check:gaga.install-out.txt --library=/Library/Frameworks/R.framework/Resources/library --no-vignettes --timings gaga_2.55.0.tar.gz StartedAt: 2025-10-03 19:31:54 -0400 (Fri, 03 Oct 2025) EndedAt: 2025-10-03 19:32:19 -0400 (Fri, 03 Oct 2025) EllapsedTime: 25.3 seconds RetCode: 0 Status: WARNINGS CheckDir: gaga.Rcheck Warnings: 1