Package: gaga Version: 2.55.0 Command: /Library/Frameworks/R.framework/Resources/bin/R CMD build --keep-empty-dirs --no-resave-data gaga StartedAt: 2025-10-05 16:27:54 -0400 (Sun, 05 Oct 2025) EndedAt: 2025-10-05 16:28:05 -0400 (Sun, 05 Oct 2025) EllapsedTime: 11.1 seconds RetCode: 0 Status: OK PackageFile: gaga_2.55.0.tar.gz PackageFileSize: 570 KiB