Package: gVenn Version: 0.99.1 Command: /home/biocbuild/R/R/bin/R CMD INSTALL gVenn StartedAt: 2025-10-06 20:27:29 -0000 (Mon, 06 Oct 2025) EndedAt: 2025-10-06 20:27:32 -0000 (Mon, 06 Oct 2025) EllapsedTime: 3.1 seconds RetCode: 0 Status: OK