Package: gVenn Version: 0.99.1 Command: /home/biocbuild/R/R/bin/R CMD check --install=check:gVenn.install-out.txt --library=/home/biocbuild/R/R/site-library --no-vignettes --timings gVenn_0.99.1.tar.gz StartedAt: 2025-10-07 08:32:05 -0000 (Tue, 07 Oct 2025) EndedAt: 2025-10-07 08:37:56 -0000 (Tue, 07 Oct 2025) EllapsedTime: 351.2 seconds RetCode: 0 Status: OK CheckDir: gVenn.Rcheck Warnings: 0