Package: gVenn Version: 0.99.1 Command: /Library/Frameworks/R.framework/Resources/bin/R CMD check --install=check:gVenn.install-out.txt --library=/Library/Frameworks/R.framework/Resources/library --no-vignettes --timings gVenn_0.99.1.tar.gz StartedAt: 2025-10-05 22:00:49 -0400 (Sun, 05 Oct 2025) EndedAt: 2025-10-05 22:03:04 -0400 (Sun, 05 Oct 2025) EllapsedTime: 135.6 seconds RetCode: 0 Status: OK CheckDir: gVenn.Rcheck Warnings: 0