Package: gVenn Version: 0.99.1 Command: /Library/Frameworks/R.framework/Resources/bin/R CMD build --keep-empty-dirs --no-resave-data gVenn StartedAt: 2025-10-05 16:41:26 -0400 (Sun, 05 Oct 2025) EndedAt: 2025-10-05 16:41:32 -0400 (Sun, 05 Oct 2025) EllapsedTime: 6.1 seconds RetCode: 0 Status: OK PackageFile: gVenn_0.99.1.tar.gz PackageFileSize: 1.457 MiB