Package: gVenn Version: 0.99.1 Maintainer: Christophe Tav MaintainerEmail: christophe.tav at gmail.com git_url: https://git.bioconductor.org/packages/gVenn git_branch: devel git_last_commit: 7b8fced git_last_commit_date: 2025-09-04 23:55:20 -0400 (Thu, 04 Sep 2025)