Package: gINTomics Version: 1.5.0 Command: F:\biocbuild\bbs-3.22-bioc\R\bin\R.exe CMD INSTALL gINTomics StartedAt: 2025-07-16 16:37:06 -0400 (Wed, 16 Jul 2025) EndedAt: 2025-07-16 16:39:24 -0400 (Wed, 16 Jul 2025) EllapsedTime: 138.0 seconds RetCode: 0 Status: OK