Package: gINTomics Version: 1.5.0 Command: F:\biocbuild\bbs-3.22-bioc\R\bin\R.exe CMD check --no-multiarch --install=check:gINTomics.install-out.txt --library=F:\biocbuild\bbs-3.22-bioc\R\library --no-vignettes --timings gINTomics_1.5.0.tar.gz StartedAt: 2025-07-15 02:34:27 -0400 (Tue, 15 Jul 2025) EndedAt: 2025-07-15 02:46:26 -0400 (Tue, 15 Jul 2025) EllapsedTime: 719.1 seconds RetCode: 0 Status: WARNINGS CheckDir: gINTomics.Rcheck Warnings: 4