Package: gINTomics Version: 1.5.0 Command: rm -rf gINTomics.buildbin-libdir && mkdir gINTomics.buildbin-libdir && F:\biocbuild\bbs-3.22-bioc\R\bin\R.exe CMD INSTALL --build --library=gINTomics.buildbin-libdir gINTomics_1.5.0.tar.gz StartedAt: 2025-07-14 09:05:25 -0400 (Mon, 14 Jul 2025) EndedAt: 2025-07-14 09:08:28 -0400 (Mon, 14 Jul 2025) EllapsedTime: 183.5 seconds RetCode: 0 Status: OK PackageFile: gINTomics_1.5.0.zip PackageFileSize: 3.789 MiB