Package: gINTomics Version: 1.5.0 Command: /Library/Frameworks/R.framework/Resources/bin/R CMD check --install=check:gINTomics.install-out.txt --library=/Library/Frameworks/R.framework/Resources/library --no-vignettes --timings gINTomics_1.5.0.tar.gz StartedAt: 2025-07-20 21:10:06 -0400 (Sun, 20 Jul 2025) EndedAt: 2025-07-20 21:25:20 -0400 (Sun, 20 Jul 2025) EllapsedTime: 914.4 seconds RetCode: 0 Status: OK CheckDir: gINTomics.Rcheck Warnings: 0