Package: gINTomics Version: 1.5.0 Command: /Library/Frameworks/R.framework/Resources/bin/R CMD build --keep-empty-dirs --no-resave-data gINTomics StartedAt: 2025-07-20 17:07:55 -0400 (Sun, 20 Jul 2025) EndedAt: 2025-07-20 17:12:49 -0400 (Sun, 20 Jul 2025) EllapsedTime: 294.1 seconds RetCode: 0 Status: OK PackageFile: gINTomics_1.5.0.tar.gz PackageFileSize: 3.503 MiB