Package: gINTomics Version: 1.5.0 Command: rm -rf gINTomics.buildbin-libdir && mkdir gINTomics.buildbin-libdir && /Users/biocbuild/BBS/utils/build-universal.sh gINTomics_1.5.0.tar.gz /Library/Frameworks/R.framework/Resources/bin/R gINTomics.buildbin-libdir StartedAt: 2025-07-21 01:05:25 -0400 (Mon, 21 Jul 2025) EndedAt: 2025-07-21 01:07:34 -0400 (Mon, 21 Jul 2025) EllapsedTime: 129.3 seconds RetCode: 0 Status: OK PackageFile: gINTomics_1.5.0.tgz PackageFileSize: 3.787 MiB