Package: gDRstyle Version: 1.7.2 Command: /home/biocbuild/R/R/bin/R CMD build --keep-empty-dirs --no-resave-data gDRstyle StartedAt: 2025-06-26 23:41:07 -0000 (Thu, 26 Jun 2025) EndedAt: 2025-06-26 23:41:15 -0000 (Thu, 26 Jun 2025) EllapsedTime: 8.0 seconds RetCode: 0 Status: OK PackageFile: gDRstyle_1.7.2.tar.gz PackageFileSize: 730 KiB